BEGIN:VCALENDAR
VERSION:2.0
PRODID:-//Squarespace Inc/Squarespace 6//v6//EN
BEGIN:VEVENT
UID:5de7c6eb1c05887efd90ac67@squarespace.com
DTSTAMP:20191204T145641Z
DTSTART:20200907T110000Z
DTEND:20200907T200000Z
SUMMARY:Office Closed Labor Day
END:VEVENT
END:VCALENDAR
