BEGIN:VCALENDAR
VERSION:2.0
PRODID:-//Squarespace Inc/Squarespace 6//v6//EN
BEGIN:VEVENT
UID:5de7c6c4a6c1497f49cd170e@squarespace.com
DTSTAMP:20191204T145721Z
DTSTART:20200703T110000Z
DTEND:20200703T200000Z
SUMMARY:Office Closed Independence Day
END:VEVENT
END:VCALENDAR
