BEGIN:VCALENDAR
VERSION:2.0
PRODID:-//Squarespace Inc/Squarespace 6//v6//EN
BEGIN:VEVENT
UID:5de7c8b2a6dd143c62709e52@squarespace.com
DTSTAMP:20191204T145527Z
DTSTART:20200606T120000Z
DTEND:20200606T180000Z
SUMMARY:Local 51 Golf Outing
GEO:39.696473;-89.70022
LOCATION:Piper Glen Golf Course\, 7112 Piper Glen Dr.\, Springfield\, IL
END:VEVENT
END:VCALENDAR
