BEGIN:VCALENDAR
VERSION:2.0
PRODID:-//Squarespace Inc/Squarespace 6//v6//EN
BEGIN:VEVENT
UID:5de7c67140f75552fd50a22d@squarespace.com
DTSTAMP:20191204T145039Z
DTSTART:20200525T110000Z
DTEND:20200525T200000Z
SUMMARY:Office Closed Memorial Day
END:VEVENT
END:VCALENDAR
