BEGIN:VCALENDAR
VERSION:2.0
PRODID:-//Squarespace Inc/Squarespace 6//v6//EN
BEGIN:VEVENT
UID:5de7c62da6dd143c62704707@squarespace.com
DTSTAMP:20191204T144445Z
DTSTART:20200410T110000Z
DTEND:20200410T200000Z
SUMMARY:Office Closed Good Friday
END:VEVENT
END:VCALENDAR
