BEGIN:VCALENDAR
VERSION:2.0
PRODID:-//Squarespace Inc/Squarespace 6//v6//EN
BEGIN:VEVENT
UID:5de7c775a6c1497f49cd2dbf@squarespace.com
DTSTAMP:20191204T144944Z
DTSTART:20201231T120000Z
DTEND:20210101T210000Z
SUMMARY:Office Closed New Years
END:VEVENT
END:VCALENDAR
