BEGIN:VCALENDAR
VERSION:2.0
PRODID:-//Squarespace Inc/Squarespace 6//v6//EN
BEGIN:VEVENT
UID:5de7c72c89bdad6667667bcb@squarespace.com
DTSTAMP:20191204T144835Z
DTSTART:20201126T120000Z
DTEND:20201127T210000Z
SUMMARY:Office Closed Thanksgiving
END:VEVENT
END:VCALENDAR
