BEGIN:VCALENDAR
VERSION:2.0
PRODID:-//Squarespace Inc/Squarespace 6//v6//EN
BEGIN:VEVENT
UID:5de7c70ba6c1497f49cd1f83@squarespace.com
DTSTAMP:20191204T144758Z
DTSTART:20201111T120000Z
DTEND:20201111T210000Z
SUMMARY:Office Closed Veterans Day
END:VEVENT
END:VCALENDAR
