BEGIN:VCALENDAR
VERSION:2.0
PRODID:-//Squarespace Inc/Squarespace 6//v6//EN
BEGIN:VEVENT
UID:5de69b8c5be57103519108fa@squarespace.com
DTSTAMP:20191203T173023Z
DTSTART:20200109T213000Z
DTEND:20200109T223000Z
SUMMARY:Peoria Unit
GEO:41.984515;-88.142894
LOCATION:VFW 2602\, 1505 E. Lake St.\, Peoria Heights\, IL
END:VEVENT
END:VCALENDAR
