BEGIN:VCALENDAR
VERSION:2.0
PRODID:-//Squarespace Inc/Squarespace 6//v6//EN
BEGIN:VEVENT
UID:5de69b61495bd32d5e3dde02@squarespace.com
DTSTAMP:20191203T172930Z
DTSTART:20200109T213000Z
DTEND:20200109T223000Z
SUMMARY:Decatur Unit 15
GEO:39.884262;-88.935513
LOCATION:IBEW Local 146\, 3390 N. Woodford St.\, Decatur\, IL
END:VEVENT
END:VCALENDAR
