BEGIN:VCALENDAR
VERSION:2.0
PRODID:-//Squarespace Inc/Squarespace 6//v6//EN
BEGIN:VEVENT
UID:5de69a8a495bd32d5e3db81e@squarespace.com
DTSTAMP:20191204T141706Z
DTSTART:20200205T230000Z
DTEND:20200206T000000Z
SUMMARY:LaSalle Unit
GEO:41.327454;-89.13143
LOCATION:Stone Jug BBQ\, 1920 4th St.\, Peru\, IL\, USA
END:VEVENT
END:VCALENDAR
