BEGIN:VCALENDAR
VERSION:2.0
PRODID:-//Squarespace Inc/Squarespace 6//v6//EN
BEGIN:VEVENT
UID:5de7ce27a6dd143c6271590d@squarespace.com
DTSTAMP:20191204T151811Z
DTSTART:20200805T220000Z
DTEND:20200805T230000Z
SUMMARY:LaSalle Unit
GEO:41.327454;-89.13143
LOCATION:Stone Jug BBQ\, 1920 4th St.\, Peru\, IL\, USA
END:VEVENT
END:VCALENDAR
