BEGIN:VCALENDAR
VERSION:2.0
PRODID:-//Squarespace Inc/Squarespace 6//v6//EN
BEGIN:VEVENT
UID:5de7cdd3a6dd143c62714c53@squarespace.com
DTSTAMP:20191204T151646Z
DTSTART:20200603T220000Z
DTEND:20200603T230000Z
SUMMARY:LaSalle Unit
GEO:41.327454;-89.13143
LOCATION:Stone Jug BBQ\, 1920 4th St.\, Peru\, IL\, USA
END:VEVENT
END:VCALENDAR
