BEGIN:VCALENDAR
VERSION:2.0
PRODID:-//Squarespace Inc/Squarespace 6//v6//EN
BEGIN:VEVENT
UID:5de7ce7e91057c05bf60c72f@squarespace.com
DTSTAMP:20200925T200642Z
DTSTART:20201203T000000Z
DTEND:20201203T010000Z
SUMMARY:LaSalle Unit
GEO:41.327454;-89.13143
LOCATION:Stone Jug BBQ\, 1920 4th St.\, Peru\, IL\, USA
END:VEVENT
END:VCALENDAR
