BEGIN:VCALENDAR
VERSION:2.0
PRODID:-//Squarespace Inc/Squarespace 6//v6//EN
BEGIN:VEVENT
UID:5de69ab9cd1f1d1da5822f06@squarespace.com
DTSTAMP:20191203T172657Z
DTSTART:20200108T233000Z
DTEND:20200109T003000Z
SUMMARY:Jacksonville Unit
GEO:39.719182;-90.244184
LOCATION:American Legion Post 279\, 903 W. Superior Ave.\, Jacksonville\, I
 L\, USA
END:VEVENT
END:VCALENDAR
