BEGIN:VCALENDAR
VERSION:2.0
PRODID:-//Squarespace Inc/Squarespace 6//v6//EN
BEGIN:VEVENT
UID:5de7c26c379f6e3495235538@squarespace.com
DTSTAMP:20191204T142808Z
DTSTART:20200212T233000Z
DTEND:20200213T003000Z
SUMMARY:Jacksonville Unit
GEO:39.719182;-90.244184
LOCATION:American Legion Post 279\, 903 W. Superior Ave.\, Jacksonville\, I
 L\, USA
END:VEVENT
END:VCALENDAR
