BEGIN:VCALENDAR
VERSION:2.0
PRODID:-//Squarespace Inc/Squarespace 6//v6//EN
BEGIN:VEVENT
UID:5de7d726f4450873e665af64@squarespace.com
DTSTAMP:20200925T192933Z
DTSTART:20201014T233000Z
DTEND:20201015T003000Z
SUMMARY:Jacksonville Unit
GEO:39.719182;-90.244184
LOCATION:American Legion Post 279\, 903 W. Superior Ave.\, Jacksonville\, I
 L\, USA
END:VEVENT
END:VCALENDAR
