BEGIN:VCALENDAR
VERSION:2.0
PRODID:-//Squarespace Inc/Squarespace 6//v6//EN
BEGIN:VEVENT
UID:5de7d6782aee26493f1d26c4@squarespace.com
DTSTAMP:20191204T155337Z
DTSTART:20200408T223000Z
DTEND:20200408T233000Z
SUMMARY:Jacksonville Unit
GEO:39.719182;-90.244184
LOCATION:American Legion Post 279\, 903 W. Superior Ave.\, Jacksonville\, I
 L\, USA
END:VEVENT
END:VCALENDAR
