BEGIN:VCALENDAR
VERSION:2.0
PRODID:-//Squarespace Inc/Squarespace 6//v6//EN
BEGIN:VEVENT
UID:5de7d69ea6c1497f49cf505e@squarespace.com
DTSTAMP:20191204T155423Z
DTSTART:20200610T223000Z
DTEND:20200610T233000Z
SUMMARY:Jacksonville Unit
GEO:39.719182;-90.244184
LOCATION:American Legion Post 279\, 903 W. Superior Ave.\, Jacksonville\, I
 L\, USA
END:VEVENT
END:VCALENDAR
