BEGIN:VCALENDAR
VERSION:2.0
PRODID:-//Squarespace Inc/Squarespace 6//v6//EN
BEGIN:VEVENT
UID:5de69a615de8a6184f0f8c83@squarespace.com
DTSTAMP:20191203T172515Z
DTSTART:20200108T210000Z
DTEND:20200108T220000Z
SUMMARY:Baldwin Unit
GEO:38.325814;-89.878503
LOCATION:Bullpen\, 101 N. Van Buren St.\, New Athens\, IL\, USA
END:VEVENT
END:VCALENDAR
