BEGIN:VCALENDAR
VERSION:2.0
PRODID:-//Squarespace Inc/Squarespace 6//v6//EN
BEGIN:VEVENT
UID:5de7d60378ef7439791bc6e7@squarespace.com
DTSTAMP:20200925T200728Z
DTSTART:20201209T220000Z
DTEND:20201209T230000Z
SUMMARY:Baldwin Unit
GEO:38.325814;-89.878503
LOCATION:Bullpen\, 101 N. Van Buren St.\, New Athens\, IL\, USA
END:VEVENT
END:VCALENDAR
