BEGIN:VCALENDAR
VERSION:2.0
PRODID:-//Squarespace Inc/Squarespace 6//v6//EN
BEGIN:VEVENT
UID:5de7d5ba1c05887efd92dc8f@squarespace.com
DTSTAMP:20191204T155031Z
DTSTART:20200909T200000Z
DTEND:20200909T210000Z
SUMMARY:Baldwin Unit
GEO:38.325814;-89.878503
LOCATION:Bullpen\, 101 N. Van Buren St.\, New Athens\, IL\, USA
END:VEVENT
END:VCALENDAR
