BEGIN:VCALENDAR
VERSION:2.0
PRODID:-//Squarespace Inc/Squarespace 6//v6//EN
BEGIN:VEVENT
UID:5de7d5e4c7c12921b5350e01@squarespace.com
DTSTAMP:20200925T200237Z
DTSTART:20201110T220000Z
DTEND:20201110T230000Z
SUMMARY:Baldwin Unit
GEO:38.325814;-89.878503
LOCATION:Bullpen\, 101 N. Van Buren St.\, New Athens\, IL\, USA
END:VEVENT
END:VCALENDAR
