BEGIN:VCALENDAR
VERSION:2.0
PRODID:-//Squarespace Inc/Squarespace 6//v6//EN
BEGIN:VEVENT
UID:5de7d5cf91057c05bf61e84b@squarespace.com
DTSTAMP:20200925T192853Z
DTSTART:20201014T210000Z
DTEND:20201014T220000Z
SUMMARY:Baldwin Unit
GEO:38.325814;-89.878503
LOCATION:Bullpen\, 101 N. Van Buren St.\, New Athens\, IL\, USA
END:VEVENT
END:VCALENDAR
