BEGIN:VCALENDAR
VERSION:2.0
PRODID:-//Squarespace Inc/Squarespace 6//v6//EN
BEGIN:VEVENT
UID:5de6995383bec649d372f8fa@squarespace.com
DTSTAMP:20191203T172100Z
DTSTART:20200107T220000Z
DTEND:20200107T230000Z
SUMMARY:Lincoln Unit
GEO:30.222336;-93.193873
LOCATION:Stone Jug BBQ\, 1920 4th St.\, Peru\, IL
END:VEVENT
END:VCALENDAR
