BEGIN:VCALENDAR
VERSION:2.0
PRODID:-//Squarespace Inc/Squarespace 6//v6//EN
BEGIN:VEVENT
UID:5de7cc4078ef7439791a4ac3@squarespace.com
DTSTAMP:20191204T151004Z
DTSTART:20200506T210000Z
DTEND:20200506T220000Z
SUMMARY:Lincoln Unit
GEO:30.222336;-93.193873
LOCATION:Stone Jug BBQ\, 1920 4th St.\, Peru\, IL
END:VEVENT
END:VCALENDAR
