BEGIN:VCALENDAR
VERSION:2.0
PRODID:-//Squarespace Inc/Squarespace 6//v6//EN
BEGIN:VEVENT
UID:5de7cc69639be22007fe086b@squarespace.com
DTSTAMP:20191204T151053Z
DTSTART:20200603T210000Z
DTEND:20200603T220000Z
SUMMARY:Lincoln Unit
GEO:30.222336;-93.193873
LOCATION:Stone Jug BBQ\, 1920 4th St.\, Peru\, IL
END:VEVENT
END:VCALENDAR
