BEGIN:VCALENDAR
VERSION:2.0
PRODID:-//Squarespace Inc/Squarespace 6//v6//EN
BEGIN:VEVENT
UID:5de7cd31a6dd143c627138cd@squarespace.com
DTSTAMP:20200925T195538Z
DTSTART:20201007T220000Z
DTEND:20201007T230000Z
SUMMARY:Lincoln Unit
GEO:30.222336;-93.193873
LOCATION:Stone Jug BBQ\, 1920 4th St.\, Peru\, IL
END:VEVENT
END:VCALENDAR
