BEGIN:VCALENDAR
VERSION:2.0
PRODID:-//Squarespace Inc/Squarespace 6//v6//EN
BEGIN:VEVENT
UID:5de7cd441c05887efd91984f@squarespace.com
DTSTAMP:20200925T200400Z
DTSTART:20201104T230000Z
DTEND:20201105T000000Z
SUMMARY:Lincoln Unit
GEO:30.222336;-93.193873
LOCATION:Stone Jug BBQ\, 1920 4th St.\, Peru\, IL
END:VEVENT
END:VCALENDAR
