BEGIN:VCALENDAR
VERSION:2.0
PRODID:-//Squarespace Inc/Squarespace 6//v6//EN
BEGIN:VEVENT
UID:5de699015c46d60270c0a22b@squarespace.com
DTSTAMP:20191203T171949Z
DTSTART:20200107T210000Z
DTEND:20200107T220000Z
SUMMARY:Havana Unit
GEO:41.879336;-87.637988
LOCATION:VFW Post 6408\, 415 W. Adams\, Havana\, IL
END:VEVENT
END:VCALENDAR
