BEGIN:VCALENDAR
VERSION:2.0
PRODID:-//Squarespace Inc/Squarespace 6//v6//EN
BEGIN:VEVENT
UID:5de69a2dae38e0103310f90b@squarespace.com
DTSTAMP:20191203T172430Z
DTSTART:20200107T230000Z
DTEND:20200108T000000Z
SUMMARY:Bloomington Unit
GEO:40.448215;-89.02514
LOCATION:IBEW Local 197\, 2407 Beich Rd.\, Suite A\, Bloomington\, IL\, USA
END:VEVENT
END:VCALENDAR
