BEGIN:VCALENDAR
VERSION:2.0
PRODID:-//Squarespace Inc/Squarespace 6//v6//EN
BEGIN:VEVENT
UID:5de69d2618b97b7638c6ef65@squarespace.com
DTSTAMP:20191203T202433Z
DTSTART:20200125T140000Z
DTEND:20200125T170000Z
SUMMARY:Eboard
END:VEVENT
END:VCALENDAR
