BEGIN:VCALENDAR
VERSION:2.0
PRODID:-//Squarespace Inc/Squarespace 6//v6//EN
BEGIN:VEVENT
UID:5de6b75b4872256472063b67@squarespace.com
DTSTAMP:20191204T141338Z
DTSTART:20200222T140000Z
DTEND:20200222T170000Z
SUMMARY:Eboard
END:VEVENT
END:VCALENDAR
