BEGIN:VCALENDAR
VERSION:2.0
PRODID:-//Squarespace Inc/Squarespace 6//v6//EN
BEGIN:VEVENT
UID:5de6c30b954b2a4c18f277fe@squarespace.com
DTSTAMP:20200925T195754Z
DTSTART:20200926T130000Z
DTEND:20200926T160000Z
SUMMARY:Local 51 Picnic (CANCELLED)
END:VEVENT
END:VCALENDAR
