BEGIN:VCALENDAR
VERSION:2.0
PRODID:-//Squarespace Inc/Squarespace 6//v6//EN
BEGIN:VEVENT
UID:5de6c40483bec649d37b78f1@squarespace.com
DTSTAMP:20200925T195917Z
DTSTART:20201022T150000Z
DTEND:20201022T180000Z
SUMMARY:Executive Board 
END:VEVENT
END:VCALENDAR
