BEGIN:VCALENDAR
VERSION:2.0
PRODID:-//Squarespace Inc/Squarespace 6//v6//EN
BEGIN:VEVENT
UID:5de6c43a83bec649d37b8495@squarespace.com
DTSTAMP:20191203T202342Z
DTSTART:20201218T140000Z
DTEND:20201218T170000Z
SUMMARY:Christmas Party and Eboard
END:VEVENT
END:VCALENDAR
