BEGIN:VCALENDAR
VERSION:2.0
PRODID:-//Squarespace Inc/Squarespace 6//v6//EN
BEGIN:VEVENT
UID:5de6c26ccd1f1d1da589ec82@squarespace.com
DTSTAMP:20191204T142404Z
DTSTART:20200516T130000Z
DTEND:20200516T160000Z
SUMMARY:Eboard
END:VEVENT
END:VCALENDAR
