BEGIN:VCALENDAR
VERSION:2.0
PRODID:-//Squarespace Inc/Squarespace 6//v6//EN
BEGIN:VEVENT
UID:5e1f74900ce42b1dbbf60e53@squarespace.com
DTSTAMP:20200115T202543Z
DTSTART:20200123T210000Z
DTEND:20200124T010000Z
SUMMARY:Shift workers informal union meeting
GEO:41.884049;-87.635778
LOCATION:Decatur Public Library\, 130 N. Franklin St.\, Decatur\, IL
END:VEVENT
END:VCALENDAR
