BEGIN:VCALENDAR
VERSION:2.0
PRODID:-//Squarespace Inc/Squarespace 6//v6//EN
BEGIN:VEVENT
UID:5de6988f5be57103519086fc@squarespace.com
DTSTAMP:20191203T171733Z
DTSTART:20200102T220000Z
DTEND:20200102T230000Z
SUMMARY:Wood River Unit
GEO:38.673098;-90.014097
LOCATION:IBEW Local 309\, 2000A Mall Street\, Collinsville\, IL
END:VEVENT
END:VCALENDAR
