BEGIN:VCALENDAR
VERSION:2.0
PRODID:-//Squarespace Inc/Squarespace 6//v6//EN
BEGIN:VEVENT
UID:5de698cf5de8a6184f0f4c59@squarespace.com
DTSTAMP:20191203T171831Z
DTSTART:20200102T223000Z
DTEND:20200102T233000Z
SUMMARY:Springfield Unit
GEO:39.743203;-89.712351
LOCATION:IBEW Local 51\, 3171 Greenhead Dr.\, Springfield\, IL 62711
END:VEVENT
END:VCALENDAR
