BEGIN:VCALENDAR
VERSION:2.0
PRODID:-//Squarespace Inc/Squarespace 6//v6//EN
BEGIN:VEVENT
UID:5de7d0b7379f6e349525516a@squarespace.com
DTSTAMP:20191204T152907Z
DTSTART:20200806T210000Z
DTEND:20200806T220000Z
SUMMARY:Galesburg Unit
GEO:40.917245;-90.293155
LOCATION:Knoxville American Legion\, 749 Henderson Rd\, Knoxville\, IL
END:VEVENT
END:VCALENDAR
