BEGIN:VCALENDAR
VERSION:2.0
PRODID:-//Squarespace Inc/Squarespace 6//v6//EN
BEGIN:VEVENT
UID:5de7d11591057c05bf6136c5@squarespace.com
DTSTAMP:20200925T200650Z
DTSTART:20201203T230000Z
DTEND:20201204T000000Z
SUMMARY:Galesburg Unit
GEO:40.917245;-90.293155
LOCATION:Knoxville American Legion\, 749 Henderson Rd\, Knoxville\, IL
END:VEVENT
END:VCALENDAR
