BEGIN:VCALENDAR
VERSION:2.0
PRODID:-//Squarespace Inc/Squarespace 6//v6//EN
BEGIN:VEVENT
UID:5de7d0eb78ef7439791b09e5@squarespace.com
DTSTAMP:20200925T195500Z
DTSTART:20201001T220000Z
DTEND:20201001T230000Z
SUMMARY:Galesburg Unit
GEO:40.917245;-90.293155
LOCATION:Knoxville American Legion\, 749 Henderson Rd\, Knoxville\, IL
END:VEVENT
END:VCALENDAR
