BEGIN:VCALENDAR
VERSION:2.0
PRODID:-//Squarespace Inc/Squarespace 6//v6//EN
BEGIN:VEVENT
UID:5de7d102a6dd143c6271c00d@squarespace.com
DTSTAMP:20200925T200224Z
DTSTART:20201105T230000Z
DTEND:20201106T000000Z
SUMMARY:Galesburg Unit
GEO:40.917245;-90.293155
LOCATION:Knoxville American Legion\, 749 Henderson Rd\, Knoxville\, IL
END:VEVENT
END:VCALENDAR
