BEGIN:VCALENDAR
VERSION:2.0
PRODID:-//Squarespace Inc/Squarespace 6//v6//EN
BEGIN:VEVENT
UID:5de7cab7a6c1497f49cd9d93@squarespace.com
DTSTAMP:20200925T195101Z
DTSTART:20201007T210000Z
DTEND:20201007T220000Z
SUMMARY:Clinton Unit
GEO:40.149822;-88.942658
LOCATION:Stone's End Bar & Grill\, 1520 E. South St.\, Clinton\, IL 61727\, 
 USA
END:VEVENT
END:VCALENDAR
