BEGIN:VCALENDAR
VERSION:2.0
PRODID:-//Squarespace Inc/Squarespace 6//v6//EN
BEGIN:VEVENT
UID:5de7cb7e2aee26493f1b955d@squarespace.com
DTSTAMP:20200925T200622Z
DTSTART:20201202T220000Z
DTEND:20201202T230000Z
SUMMARY:Clinton Unit
GEO:40.149822;-88.942658
LOCATION:Stone's End Bar & Grill\, 1520 E. South St.\, Clinton\, IL 61727\, 
 USA
END:VEVENT
END:VCALENDAR
