BEGIN:VCALENDAR
VERSION:2.0
PRODID:-//Squarespace Inc/Squarespace 6//v6//EN
BEGIN:VEVENT
UID:5de7bf68c7c12921b531f183@squarespace.com
DTSTAMP:20191204T141518Z
DTSTART:20200205T210000Z
DTEND:20200205T220000Z
SUMMARY:Clinton Unit
GEO:40.149822;-88.942658
LOCATION:Stone's End Bar & Grill\, 1520 E. South St.\, Clinton\, IL 61727\, 
 USA
END:VEVENT
END:VCALENDAR
