BEGIN:VCALENDAR
VERSION:2.0
PRODID:-//Squarespace Inc/Squarespace 6//v6//EN
BEGIN:VEVENT
UID:5de7ca2340f75552fd5125f4@squarespace.com
DTSTAMP:20191204T150108Z
DTSTART:20200401T200000Z
DTEND:20200401T210000Z
SUMMARY:Clinton Unit
GEO:40.149822;-88.942658
LOCATION:Stone's End Bar & Grill\, 1520 E. South St.\, Clinton\, IL 61727\, 
 USA
END:VEVENT
END:VCALENDAR
