BEGIN:VCALENDAR
VERSION:2.0
PRODID:-//Squarespace Inc/Squarespace 6//v6//EN
BEGIN:VEVENT
UID:5de7ca5489bdad666766f0be@squarespace.com
DTSTAMP:20191204T150152Z
DTSTART:20200603T200000Z
DTEND:20200603T210000Z
SUMMARY:Clinton Unit
GEO:40.149822;-88.942658
LOCATION:Stone's End Bar & Grill\, 1520 E. South St.\, Clinton\, IL 61727\, 
 USA
END:VEVENT
END:VCALENDAR
