BEGIN:VCALENDAR
VERSION:2.0
PRODID:-//Squarespace Inc/Squarespace 6//v6//EN
BEGIN:VEVENT
UID:5de69cf85c46d60270c16180@squarespace.com
DTSTAMP:20191203T173619Z
DTSTART:20200118T120000Z
DTEND:20200118T130000Z
SUMMARY:DOT Physicals
GEO:39.743203;-89.712351
LOCATION:IBEW Local 51\, 3171 Greenhead Dr.\, Springfield\, IL
END:VEVENT
END:VCALENDAR
